BEGIN:VCALENDAR
VERSION:2.0
PRODID:-//Travel Eureka Springs - ECPv6.15.20//NONSGML v1.0//EN
CALSCALE:GREGORIAN
METHOD:PUBLISH
X-ORIGINAL-URL:https://www.traveleurekasprings.com
X-WR-CALDESC:Events for Travel Eureka Springs
REFRESH-INTERVAL;VALUE=DURATION:PT1H
X-Robots-Tag:noindex
X-PUBLISHED-TTL:PT1H
BEGIN:VTIMEZONE
TZID:America/Chicago
BEGIN:DAYLIGHT
TZOFFSETFROM:-0600
TZOFFSETTO:-0500
TZNAME:CDT
DTSTART:20250309T080000
END:DAYLIGHT
BEGIN:STANDARD
TZOFFSETFROM:-0500
TZOFFSETTO:-0600
TZNAME:CST
DTSTART:20251102T070000
END:STANDARD
BEGIN:DAYLIGHT
TZOFFSETFROM:-0600
TZOFFSETTO:-0500
TZNAME:CDT
DTSTART:20260308T080000
END:DAYLIGHT
BEGIN:STANDARD
TZOFFSETFROM:-0500
TZOFFSETTO:-0600
TZNAME:CST
DTSTART:20261101T070000
END:STANDARD
BEGIN:DAYLIGHT
TZOFFSETFROM:-0600
TZOFFSETTO:-0500
TZNAME:CDT
DTSTART:20270314T080000
END:DAYLIGHT
BEGIN:STANDARD
TZOFFSETFROM:-0500
TZOFFSETTO:-0600
TZNAME:CST
DTSTART:20271107T070000
END:STANDARD
END:VTIMEZONE
BEGIN:VEVENT
DTSTART;TZID=America/Chicago:20260130T180000
DTEND;TZID=America/Chicago:20260130T220000
DTSTAMP:20260420T180048
CREATED:20250103T192651Z
LAST-MODIFIED:20251118T150407Z
UID:10000304-1769796000-1769810400@www.traveleurekasprings.com
SUMMARY:Coronation Ball at the Crescent Hotel
DESCRIPTION:Step into a night of regal revelry at the Eureka Springs Mardi Gras Coronation Ball! Join us for an enchanting evening of glamour and celebration as the Mardi Gras royalty is crowned in style. The ball promises a magical atmosphere adorned with elegant decor\, live music\, and the vibrant spirit of Mardi Gras. Don your most dazzling attire and immerse yourself in a world of splendor\, where guests are treated to an unforgettable experience of dancing\, socializing\, and the crowning of the monarchs who will lead the festive revelry.
URL:https://www.traveleurekasprings.com/event/coronation-ball-at-the-crescent-hotel/
LOCATION:the Crescent Hotel
CATEGORIES:Mardi Gras
ATTACH;FMTTYPE=image/png:https://www.traveleurekasprings.com/wp-content/uploads/2025/01/Umbrella-Couple-Dancing.png
END:VEVENT
END:VCALENDAR