BEGIN:VCALENDAR
VERSION:2.0
PRODID:-//Travel Eureka Springs - ECPv6.15.20//NONSGML v1.0//EN
CALSCALE:GREGORIAN
METHOD:PUBLISH
X-WR-CALNAME:Travel Eureka Springs
X-ORIGINAL-URL:https://www.traveleurekasprings.com
X-WR-CALDESC:Events for Travel Eureka Springs
REFRESH-INTERVAL;VALUE=DURATION:PT1H
X-Robots-Tag:noindex
X-PUBLISHED-TTL:PT1H
BEGIN:VTIMEZONE
TZID:America/Chicago
BEGIN:DAYLIGHT
TZOFFSETFROM:-0600
TZOFFSETTO:-0500
TZNAME:CDT
DTSTART:20250309T080000
END:DAYLIGHT
BEGIN:STANDARD
TZOFFSETFROM:-0500
TZOFFSETTO:-0600
TZNAME:CST
DTSTART:20251102T070000
END:STANDARD
BEGIN:DAYLIGHT
TZOFFSETFROM:-0600
TZOFFSETTO:-0500
TZNAME:CDT
DTSTART:20260308T080000
END:DAYLIGHT
BEGIN:STANDARD
TZOFFSETFROM:-0500
TZOFFSETTO:-0600
TZNAME:CST
DTSTART:20261101T070000
END:STANDARD
BEGIN:DAYLIGHT
TZOFFSETFROM:-0600
TZOFFSETTO:-0500
TZNAME:CDT
DTSTART:20270314T080000
END:DAYLIGHT
BEGIN:STANDARD
TZOFFSETFROM:-0500
TZOFFSETTO:-0600
TZNAME:CST
DTSTART:20271107T070000
END:STANDARD
END:VTIMEZONE
BEGIN:VEVENT
DTSTART;TZID=America/Chicago:20260213T080000
DTEND;TZID=America/Chicago:20260213T170000
DTSTAMP:20260423T064215
CREATED:20251118T145036Z
LAST-MODIFIED:20251118T145036Z
UID:10000381-1770969600-1771002000@www.traveleurekasprings.com
SUMMARY:Eureka Springs Mardi Gras Masquerade Ball
DESCRIPTION:The Eureka Springs Mardi Gras Masquerade Ball is an annual costumed dance open to the public\, inviting guests to dress creatively and enjoy an evening of music\, celebration\, and Mardi Gras tradition. This year’s theme is “Masquerade of the Heart.” \nA DJ plays a mix of swing\, disco\, rock ’n’ roll\, and other crowd favorites throughout the night. Guests can purchase cocktails from the cash bar and enjoy light fare. The Royal Court is introduced during the event\, and a red-carpet photo backdrop is available at the entrance. Tables are decorated for the occasion\, adding to the festive atmosphere. \nWith limited tickets available\, the Masquerade Ball remains one of the signature events of Eureka Springs Mardi Gras. It’s an opportunity to dress up\, enjoy good music\, and be part of the city’s Mardi Gras season. \n  \nGet Tickets \n  \n  \n 
URL:https://www.traveleurekasprings.com/event/eureka-springs-mardi-gras-masquerade-ball/
LOCATION:Inn of the Ozarks Convention Center\, 207 W Van Buren\, Eureka Springs\, AR\, 72632
CATEGORIES:Mardi Gras
ATTACH;FMTTYPE=image/jpeg:https://www.traveleurekasprings.com/wp-content/uploads/2025/11/487083927_1176898751148124_1911878175045911908_n.jpg
END:VEVENT
END:VCALENDAR