BEGIN:VCALENDAR
VERSION:2.0
PRODID:-//Travel Eureka Springs - ECPv6.15.20//NONSGML v1.0//EN
CALSCALE:GREGORIAN
METHOD:PUBLISH
X-ORIGINAL-URL:https://www.traveleurekasprings.com
X-WR-CALDESC:Events for Travel Eureka Springs
REFRESH-INTERVAL;VALUE=DURATION:PT1H
X-Robots-Tag:noindex
X-PUBLISHED-TTL:PT1H
BEGIN:VTIMEZONE
TZID:America/Chicago
BEGIN:DAYLIGHT
TZOFFSETFROM:-0600
TZOFFSETTO:-0500
TZNAME:CDT
DTSTART:20250309T080000
END:DAYLIGHT
BEGIN:STANDARD
TZOFFSETFROM:-0500
TZOFFSETTO:-0600
TZNAME:CST
DTSTART:20251102T070000
END:STANDARD
BEGIN:DAYLIGHT
TZOFFSETFROM:-0600
TZOFFSETTO:-0500
TZNAME:CDT
DTSTART:20260308T080000
END:DAYLIGHT
BEGIN:STANDARD
TZOFFSETFROM:-0500
TZOFFSETTO:-0600
TZNAME:CST
DTSTART:20261101T070000
END:STANDARD
BEGIN:DAYLIGHT
TZOFFSETFROM:-0600
TZOFFSETTO:-0500
TZNAME:CDT
DTSTART:20270314T080000
END:DAYLIGHT
BEGIN:STANDARD
TZOFFSETFROM:-0500
TZOFFSETTO:-0600
TZNAME:CST
DTSTART:20271107T070000
END:STANDARD
END:VTIMEZONE
BEGIN:VEVENT
DTSTART;VALUE=DATE:20261021
DTEND;VALUE=DATE:20261025
DTSTAMP:20260420T074807
CREATED:20241007T162930Z
LAST-MODIFIED:20260206T215212Z
UID:10000040-1792540800-1792886399@www.traveleurekasprings.com
SUMMARY:Nightmare in the Ozarks Film Festival
DESCRIPTION:Welcome to the Nightmare in the Ozarks Film Festival\, nestled in the notoriously haunted and picturesque town of Eureka Springs\, Arkansas. This festival is a grand celebration of the horror genre in all its forms\, including classic horror\, thrillers\, and horror-themed sci-fi. \nThe film festival will be hosted in the historic City Auditorium. Films will screen to over 900 seats on a 26 foot screen from a brand new 14k projector. \nSubmit your films on Film Freeway:\nhttps://filmfreeway.com/NightmareintheOzarks \nThe Nightmare in the Ozarks Film Festival is presented by the annual Eureka Springs Zombie Crawl. Take a break from the silver screen on Saturday evening to join the undead horde and apocalyptic vehicles as they crawl through the winding downtown streets of Eureka Springs in one of the nation’s largest Halloween spectacles! \nFestival Highlights:\n• Discover a curated selection of films that span the full spectrum of the horror genre. From edge-of-your-seat thrillers to dark fantasy and otherworldly sci-fi\, there’s something for everyone.\n• Find inspiration for your next project by diving into Eureka Springs’ ghostly history with guided tours and events that explore the town’s chilling true stories and haunted locations.\n• The film festival coincides with Eureka Springs’ famous Zombie Crawl. Festival-goers are invited to partake in the festivities\, adding a unique undead twist to the film festival.\nThe Nightmare in the Ozarks Film Festival invites horror enthusiasts and filmmakers to converge in Eureka Springs for a celebration of spookiness\, mystery\, and the macabre. Get ready to explore the dark corners of horror in a town famous for its ghostly history!\nSponsored in part by the Eureka Springs CAPC.
URL:https://www.traveleurekasprings.com/event/nightmare-in-the-ozarks-film-festival/
LOCATION:The Auditorium\, 36 S. Main\, Eureka Springs
CATEGORIES:Festival
ATTACH;FMTTYPE=image/jpeg:https://www.traveleurekasprings.com/wp-content/uploads/2024/10/nightmare-in-the-ozarks.jpg
END:VEVENT
BEGIN:VEVENT
DTSTART;VALUE=DATE:20261022
DTEND;VALUE=DATE:20261026
DTSTAMP:20260420T074807
CREATED:20241007T162659Z
LAST-MODIFIED:20260206T220154Z
UID:10000039-1792627200-1792972799@www.traveleurekasprings.com
SUMMARY:MINIs in the Ozarks
DESCRIPTION:Every fall hundreds of Mini enthusiasts from around the country gather In Eureka Springs\, Arkansas for three days of driving and fun in the beautiful Ozark Mountains. MITO has earned the reputation of being one of the best — and friendliest — regional events for Mini Cooper owners. \nFor more info visit https://www.ozarkmini.com/
URL:https://www.traveleurekasprings.com/event/minis-in-the-ozarks/
LOCATION:Around Town
CATEGORIES:Car Show
ATTACH;FMTTYPE=image/jpeg:https://www.traveleurekasprings.com/wp-content/uploads/2024/10/MINIS.jpg
END:VEVENT
BEGIN:VEVENT
DTSTART;TZID=America/Chicago:20261023T173000
DTEND;TZID=America/Chicago:20261024T203000
DTSTAMP:20260420T074807
CREATED:20240730T141258Z
LAST-MODIFIED:20260206T215130Z
UID:10000339-1792776600-1792873800@www.traveleurekasprings.com
SUMMARY:Annual Voices from Eureka's Silent City - Cemetery Tours
DESCRIPTION:Voices from Eureka’s Silent CityLooking for unique things to do in Eureka Springs this October? Don’t miss Voices from Eureka’s Silent City\, the popular lantern-lit cemetery tour and living history event held each fall. This guided walking tour through the historic Eureka Springs Cemetery brings the past to life with local actors portraying some of the city’s most colorful former residents. \nEach year features a new theme with stories that highlight the intriguing and often unexpected lives of those who once called Eureka Springs home. This event is a fundraiser for the Eureka Springs Historical Museum and is a favorite among history buffs\, locals\, and visitors alike. Learn more at eurekaspringshistoricalmuseum.org.
URL:https://www.traveleurekasprings.com/event/annual-voices-from-eurekas-silent-city-cemetery-tours-4/
LOCATION:Eureka Springs Cemetery
ATTACH;FMTTYPE=image/jpeg:https://www.traveleurekasprings.com/wp-content/uploads/2024/07/voices.jpg
ORGANIZER;CN="Eureka Springs Historical Museum":MAILTO:info@eurekaspringshistoricalmuseum.org
END:VEVENT
END:VCALENDAR