BEGIN:VCALENDAR
VERSION:2.0
PRODID:-//Travel Eureka Springs - ECPv6.15.20//NONSGML v1.0//EN
CALSCALE:GREGORIAN
METHOD:PUBLISH
X-ORIGINAL-URL:https://www.traveleurekasprings.com
X-WR-CALDESC:Events for Travel Eureka Springs
REFRESH-INTERVAL;VALUE=DURATION:PT1H
X-Robots-Tag:noindex
X-PUBLISHED-TTL:PT1H
BEGIN:VTIMEZONE
TZID:America/Chicago
BEGIN:DAYLIGHT
TZOFFSETFROM:-0600
TZOFFSETTO:-0500
TZNAME:CDT
DTSTART:20250309T080000
END:DAYLIGHT
BEGIN:STANDARD
TZOFFSETFROM:-0500
TZOFFSETTO:-0600
TZNAME:CST
DTSTART:20251102T070000
END:STANDARD
BEGIN:DAYLIGHT
TZOFFSETFROM:-0600
TZOFFSETTO:-0500
TZNAME:CDT
DTSTART:20260308T080000
END:DAYLIGHT
BEGIN:STANDARD
TZOFFSETFROM:-0500
TZOFFSETTO:-0600
TZNAME:CST
DTSTART:20261101T070000
END:STANDARD
BEGIN:DAYLIGHT
TZOFFSETFROM:-0600
TZOFFSETTO:-0500
TZNAME:CDT
DTSTART:20270314T080000
END:DAYLIGHT
BEGIN:STANDARD
TZOFFSETFROM:-0500
TZOFFSETTO:-0600
TZNAME:CST
DTSTART:20271107T070000
END:STANDARD
END:VTIMEZONE
BEGIN:VEVENT
DTSTART;TZID=America/Chicago:20261211T170000
DTEND;TZID=America/Chicago:20261211T190000
DTSTAMP:20260423T121338
CREATED:20240826T165137Z
LAST-MODIFIED:20260109T210400Z
UID:10000032-1797008400-1797015600@www.traveleurekasprings.com
SUMMARY:Hot Cocoa & Cookie Crawl
DESCRIPTION:Eureka Springs Hot Cocoa & Cookie CrawlFriday\, December 11 | 5–7 PM | Downtown Eureka Springs \nSip\, snack\, and stroll through downtown during one of the sweetest Christmas events in Eureka Springs. The annual Hot Cocoa & Cookie Crawl invites locals and visitors to enjoy an evening filled with festive treats\, holiday lights\, and small-town charm. Participating shops will offer free cocoa and cookie samples\, plus holiday specials and giveaways—making it a favorite for anyone looking for fun holiday things to do in Eureka Springs. \nWhat to expect:🍪 Complimentary cookies and cocoa at participating stops🎁 Holiday shopping\, giveaways\, and in-store specials🎅 Christmas lights\, music\, and photo opportunities👚 Christmas attire encouraged \nMugs go on sale December 1 at:Eureka Clothing CompanySilver Maple MarketSoap Stop & Body Stop \nCocoa stops will be announced soon. \nBring your friends\, family\, and Christmas spirit to enjoy downtown Eureka Springs at Christmas for a festive evening that’s as sweet as it sounds.
URL:https://www.traveleurekasprings.com/event/hot-cocoa-cookie-crawl/
LOCATION:Around Town
CATEGORIES:Christmas
ATTACH;FMTTYPE=image/jpeg:https://www.traveleurekasprings.com/wp-content/uploads/2022/11/basin-park-christmas.jpg
END:VEVENT
END:VCALENDAR