BEGIN:VCALENDAR
VERSION:2.0
PRODID:-//Travel Eureka Springs - ECPv6.15.20//NONSGML v1.0//EN
CALSCALE:GREGORIAN
METHOD:PUBLISH
X-ORIGINAL-URL:https://www.traveleurekasprings.com
X-WR-CALDESC:Events for Travel Eureka Springs
REFRESH-INTERVAL;VALUE=DURATION:PT1H
X-Robots-Tag:noindex
X-PUBLISHED-TTL:PT1H
BEGIN:VTIMEZONE
TZID:America/Chicago
BEGIN:DAYLIGHT
TZOFFSETFROM:-0600
TZOFFSETTO:-0500
TZNAME:CDT
DTSTART:20250309T080000
END:DAYLIGHT
BEGIN:STANDARD
TZOFFSETFROM:-0500
TZOFFSETTO:-0600
TZNAME:CST
DTSTART:20251102T070000
END:STANDARD
BEGIN:DAYLIGHT
TZOFFSETFROM:-0600
TZOFFSETTO:-0500
TZNAME:CDT
DTSTART:20260308T080000
END:DAYLIGHT
BEGIN:STANDARD
TZOFFSETFROM:-0500
TZOFFSETTO:-0600
TZNAME:CST
DTSTART:20261101T070000
END:STANDARD
BEGIN:DAYLIGHT
TZOFFSETFROM:-0600
TZOFFSETTO:-0500
TZNAME:CDT
DTSTART:20270314T080000
END:DAYLIGHT
BEGIN:STANDARD
TZOFFSETFROM:-0500
TZOFFSETTO:-0600
TZNAME:CST
DTSTART:20271107T070000
END:STANDARD
END:VTIMEZONE
BEGIN:VEVENT
DTSTART;TZID=America/Chicago:20260801T180000
DTEND;TZID=America/Chicago:20260801T200000
DTSTAMP:20260421T170431
CREATED:20251125T222647Z
LAST-MODIFIED:20260206T210506Z
UID:10000332-1785607200-1785614400@www.traveleurekasprings.com
SUMMARY:Drumming in the Park
DESCRIPTION:Looking for live events in downtown Eureka Springs? Join the energy in Basin Spring Park for an evening of music\, movement\, and community. Local favorite Angelo leads a lively drum circle with his group of drummers and dancers. Bring your own drum—or anything that makes noise—and be part of the rhythm.
URL:https://www.traveleurekasprings.com/event/drumming-in-the-park-2-3/
LOCATION:Basin Spring Park
CATEGORIES:Music
ATTACH;FMTTYPE=image/jpeg:https://www.traveleurekasprings.com/wp-content/uploads/2025/05/drum2.jpg
END:VEVENT
BEGIN:VEVENT
DTSTART;VALUE=DATE:20260809
DTEND;VALUE=DATE:20260812
DTSTAMP:20260421T170431
CREATED:20240726T203529Z
LAST-MODIFIED:20260206T211720Z
UID:10000003-1786233600-1786492799@www.traveleurekasprings.com
SUMMARY:Eureka Springs Jazz Weekend
DESCRIPTION:Join us for a Jazzy weekend in Eureka Springs!  2026 Lineup Coming Soon
URL:https://www.traveleurekasprings.com/event/eureka-springs-jazz-weekend/
LOCATION:Around Town
CATEGORIES:Music
ATTACH;FMTTYPE=image/png:https://www.traveleurekasprings.com/wp-content/uploads/2024/07/Screenshot-2025-07-22-at-3.18.33 PM.png
END:VEVENT
END:VCALENDAR