BEGIN:VCALENDAR
VERSION:2.0
PRODID:-//Travel Eureka Springs - ECPv6.15.20//NONSGML v1.0//EN
CALSCALE:GREGORIAN
METHOD:PUBLISH
X-WR-CALNAME:Travel Eureka Springs
X-ORIGINAL-URL:https://www.traveleurekasprings.com
X-WR-CALDESC:Events for Travel Eureka Springs
REFRESH-INTERVAL;VALUE=DURATION:PT1H
X-Robots-Tag:noindex
X-PUBLISHED-TTL:PT1H
BEGIN:VTIMEZONE
TZID:America/Chicago
BEGIN:DAYLIGHT
TZOFFSETFROM:-0600
TZOFFSETTO:-0500
TZNAME:CDT
DTSTART:20250309T080000
END:DAYLIGHT
BEGIN:STANDARD
TZOFFSETFROM:-0500
TZOFFSETTO:-0600
TZNAME:CST
DTSTART:20251102T070000
END:STANDARD
BEGIN:DAYLIGHT
TZOFFSETFROM:-0600
TZOFFSETTO:-0500
TZNAME:CDT
DTSTART:20260308T080000
END:DAYLIGHT
BEGIN:STANDARD
TZOFFSETFROM:-0500
TZOFFSETTO:-0600
TZNAME:CST
DTSTART:20261101T070000
END:STANDARD
BEGIN:DAYLIGHT
TZOFFSETFROM:-0600
TZOFFSETTO:-0500
TZNAME:CDT
DTSTART:20270314T080000
END:DAYLIGHT
BEGIN:STANDARD
TZOFFSETFROM:-0500
TZOFFSETTO:-0600
TZNAME:CST
DTSTART:20271107T070000
END:STANDARD
END:VTIMEZONE
BEGIN:VEVENT
DTSTART;TZID=America/Chicago:20260502T150000
DTEND;TZID=America/Chicago:20260502T160000
DTSTAMP:20260421T125633
CREATED:20260421T173532Z
LAST-MODIFIED:20260421T173630Z
UID:10000400-1777734000-1777737600@www.traveleurekasprings.com
SUMMARY:Basin Park Music Series
DESCRIPTION:Free live music in downtown Eureka Springs\, Arkansas\, doesn’t get better than this. Basin Spring Park has been a gathering place since the earliest days of this Victorian mountain town\, and the Basin Park Music Series keeps that tradition alive with free outdoor concerts right in the park\, steps from Spring Street. \nFind a bench\, settle in\, and let the music come to you. The lineup rotates throughout the season\, featuring local musicians\, regional acts\, and a mix of genres that reflects the creative spirit Eureka Springs is known for. Bring the family\, bring a friend\, or just wander over on your own. No tickets\, no cover\, no catch. \nBasin Spring Park is located at the heart of the Eureka Springs historic district\, just outside the Basin Park Hotel at 4 Spring Street.
URL:https://www.traveleurekasprings.com/event/basin-park-music-series/2026-05-02/
LOCATION:Basin Spring Park
CATEGORIES:Music
ATTACH;FMTTYPE=image/jpeg:https://www.traveleurekasprings.com/wp-content/uploads/2025/05/final-batch-2-3781.jpg
END:VEVENT
BEGIN:VEVENT
DTSTART;TZID=America/Chicago:20260502T180000
DTEND;TZID=America/Chicago:20260502T200000
DTSTAMP:20260421T125633
CREATED:20260206T210611Z
LAST-MODIFIED:20260206T210611Z
UID:10000393-1777744800-1777752000@www.traveleurekasprings.com
SUMMARY:Drumming in the Park
DESCRIPTION:Looking for live events in downtown Eureka Springs? Join the energy in Basin Spring Park for an evening of music\, movement\, and community. Local favorite Angelo leads a lively drum circle with his group of drummers and dancers. Bring your own drum—or anything that makes noise—and be part of the rhythm.
URL:https://www.traveleurekasprings.com/event/drumming-in-the-park-4/
LOCATION:Basin Spring Park
CATEGORIES:Music
ATTACH;FMTTYPE=image/jpeg:https://www.traveleurekasprings.com/wp-content/uploads/2025/05/drum2.jpg
END:VEVENT
END:VCALENDAR