BEGIN:VCALENDAR
VERSION:2.0
PRODID:-//Travel Eureka Springs - ECPv6.15.20//NONSGML v1.0//EN
CALSCALE:GREGORIAN
METHOD:PUBLISH
X-WR-CALNAME:Travel Eureka Springs
X-ORIGINAL-URL:https://www.traveleurekasprings.com
X-WR-CALDESC:Events for Travel Eureka Springs
REFRESH-INTERVAL;VALUE=DURATION:PT1H
X-Robots-Tag:noindex
X-PUBLISHED-TTL:PT1H
BEGIN:VTIMEZONE
TZID:America/Chicago
BEGIN:DAYLIGHT
TZOFFSETFROM:-0600
TZOFFSETTO:-0500
TZNAME:CDT
DTSTART:20250309T080000
END:DAYLIGHT
BEGIN:STANDARD
TZOFFSETFROM:-0500
TZOFFSETTO:-0600
TZNAME:CST
DTSTART:20251102T070000
END:STANDARD
BEGIN:DAYLIGHT
TZOFFSETFROM:-0600
TZOFFSETTO:-0500
TZNAME:CDT
DTSTART:20260308T080000
END:DAYLIGHT
BEGIN:STANDARD
TZOFFSETFROM:-0500
TZOFFSETTO:-0600
TZNAME:CST
DTSTART:20261101T070000
END:STANDARD
BEGIN:DAYLIGHT
TZOFFSETFROM:-0600
TZOFFSETTO:-0500
TZNAME:CDT
DTSTART:20270314T080000
END:DAYLIGHT
BEGIN:STANDARD
TZOFFSETFROM:-0500
TZOFFSETTO:-0600
TZNAME:CST
DTSTART:20271107T070000
END:STANDARD
END:VTIMEZONE
BEGIN:VEVENT
DTSTART;TZID=America/Chicago:20261204T180000
DTEND;TZID=America/Chicago:20261204T190000
DTSTAMP:20260421T160002
CREATED:20240826T154415Z
LAST-MODIFIED:20260323T174318Z
UID:10000030-1796407200-1796410800@www.traveleurekasprings.com
SUMMARY:Christmas Parade of Lights
DESCRIPTION:The Eureka Springs Christmas Parade is one of the most beloved holiday traditions in the Arkansas Ozarks. Each year\, the streets of historic downtown Eureka Springs come alive with festive floats\, live music\, dazzling lights\, and community cheer\, making it the perfect way to kick off the Christmas season in one of America’s most charming Victorian towns. \nThis free\, family-friendly event draws visitors and locals alike for an enchanting evening in a setting that feels like it was made for the holidays. Eureka Springs’ winding\, lantern-lit streets and unique architecture create a one-of-a-kind backdrop that no ordinary parade venue can match. \nWhether you’re a longtime local or visiting Eureka Springs for the holidays\, the Christmas Parade is a can’t-miss tradition that captures everything magical about the season. \nFor parade dates\, times\, and the full lineup of Eureka Springs Christmas events\, visit eurekaspringschamber.com.
URL:https://www.traveleurekasprings.com/event/christmas-parade-of-lights/
LOCATION:Downtown Eureka Springs
CATEGORIES:Christmas,Parade
ATTACH;FMTTYPE=image/jpeg:https://www.traveleurekasprings.com/wp-content/uploads/2021/08/christmas-parade-lights.jpg
END:VEVENT
END:VCALENDAR